BEGIN:VCALENDAR
VERSION:2.0
PRODID:-//Pleasanton RAGE - ECPv6.15.20//NONSGML v1.0//EN
CALSCALE:GREGORIAN
METHOD:PUBLISH
X-ORIGINAL-URL:https://pleasantonrage.org
X-WR-CALDESC:Events for Pleasanton RAGE
REFRESH-INTERVAL;VALUE=DURATION:PT1H
X-Robots-Tag:noindex
X-PUBLISHED-TTL:PT1H
BEGIN:VTIMEZONE
TZID:America/Los_Angeles
BEGIN:DAYLIGHT
TZOFFSETFROM:-0800
TZOFFSETTO:-0700
TZNAME:PDT
DTSTART:20240310T100000
END:DAYLIGHT
BEGIN:STANDARD
TZOFFSETFROM:-0700
TZOFFSETTO:-0800
TZNAME:PST
DTSTART:20241103T090000
END:STANDARD
BEGIN:DAYLIGHT
TZOFFSETFROM:-0800
TZOFFSETTO:-0700
TZNAME:PDT
DTSTART:20250309T100000
END:DAYLIGHT
BEGIN:STANDARD
TZOFFSETFROM:-0700
TZOFFSETTO:-0800
TZNAME:PST
DTSTART:20251102T090000
END:STANDARD
BEGIN:DAYLIGHT
TZOFFSETFROM:-0800
TZOFFSETTO:-0700
TZNAME:PDT
DTSTART:20260308T100000
END:DAYLIGHT
BEGIN:STANDARD
TZOFFSETFROM:-0700
TZOFFSETTO:-0800
TZNAME:PST
DTSTART:20261101T090000
END:STANDARD
END:VTIMEZONE
BEGIN:VEVENT
DTSTART;TZID=America/Los_Angeles:20250909T183000
DTEND;TZID=America/Los_Angeles:20250909T203000
DTSTAMP:20260422T015849
CREATED:20250117T231554Z
LAST-MODIFIED:20250117T231725Z
UID:10001247-1757442600-1757449800@pleasantonrage.org
SUMMARY:BOD Meeting
DESCRIPTION:
URL:https://pleasantonrage.org/event/bod/
LOCATION:BUSC Office 275 Rose Street\, Suite 209\, Pleasanton\, CA\, 275 Rose Avenue\, Pleasanton\, CA\, 94566\, United States
CATEGORIES:BOD Meetings
GEO:37.666795;-121.906673
X-APPLE-STRUCTURED-LOCATION;VALUE=URI;X-ADDRESS=BUSC Office 275 Rose Street Suite 209 Pleasanton CA 275 Rose Avenue Pleasanton CA 94566 United States;X-APPLE-RADIUS=500;X-TITLE=275 Rose Avenue:geo:-121.906673,37.666795
END:VEVENT
BEGIN:VEVENT
DTSTART;TZID=America/Los_Angeles:20250912T160000
DTEND;TZID=America/Los_Angeles:20250912T180000
DTSTAMP:20260422T015849
CREATED:20250730T195737Z
LAST-MODIFIED:20250730T195737Z
UID:10001271-1757692800-1757700000@pleasantonrage.org
SUMMARY:TopSoccer Fall
DESCRIPTION:
URL:https://pleasantonrage.org/event/topsoccer-fall/2025-09-12/
LOCATION:Muirwood Park\, 4701 Muirwood Drive\, Pleasanton\, CA\, 94566\, United States
CATEGORIES:TOPSoccer
END:VEVENT
BEGIN:VEVENT
DTSTART;TZID=America/Los_Angeles:20250913T083000
DTEND;TZID=America/Los_Angeles:20250913T130000
DTSTAMP:20260422T015849
CREATED:20250717T233748Z
LAST-MODIFIED:20250821T011304Z
UID:10001270-1757752200-1757768400@pleasantonrage.org
SUMMARY:Team Picture & Family Day
DESCRIPTION:A day of team bonding\, family fun\, and community!\n Team & individual photos \n⚽ Games & activities \n Food & vendors \nBring the whole family and join us for one of our favorite RAGE traditions!
URL:https://pleasantonrage.org/event/team-picture-family-day/
LOCATION:Ken Mercer Sports Park\, 5800 Parkside Dr\, Pleasanton\, CA\, 94566\, United States
CATEGORIES:Event
END:VEVENT
BEGIN:VEVENT
DTSTART;TZID=America/Los_Angeles:20250919T160000
DTEND;TZID=America/Los_Angeles:20250919T180000
DTSTAMP:20260422T015849
CREATED:20250730T195737Z
LAST-MODIFIED:20250730T195737Z
UID:10001272-1758297600-1758304800@pleasantonrage.org
SUMMARY:TopSoccer Fall
DESCRIPTION:
URL:https://pleasantonrage.org/event/topsoccer-fall/2025-09-19/
LOCATION:Muirwood Park\, 4701 Muirwood Drive\, Pleasanton\, CA\, 94566\, United States
CATEGORIES:TOPSoccer
END:VEVENT
BEGIN:VEVENT
DTSTART;TZID=America/Los_Angeles:20250926T160000
DTEND;TZID=America/Los_Angeles:20250926T180000
DTSTAMP:20260422T015849
CREATED:20250730T195737Z
LAST-MODIFIED:20250730T195737Z
UID:10001273-1758902400-1758909600@pleasantonrage.org
SUMMARY:TopSoccer Fall
DESCRIPTION:
URL:https://pleasantonrage.org/event/topsoccer-fall/2025-09-26/
LOCATION:Muirwood Park\, 4701 Muirwood Drive\, Pleasanton\, CA\, 94566\, United States
CATEGORIES:TOPSoccer
END:VEVENT
END:VCALENDAR