BEGIN:VCALENDAR
VERSION:2.0
PRODID:-//Pleasanton RAGE - ECPv6.15.20//NONSGML v1.0//EN
CALSCALE:GREGORIAN
METHOD:PUBLISH
X-WR-CALNAME:Pleasanton RAGE
X-ORIGINAL-URL:https://pleasantonrage.org
X-WR-CALDESC:Events for Pleasanton RAGE
REFRESH-INTERVAL;VALUE=DURATION:PT1H
X-Robots-Tag:noindex
X-PUBLISHED-TTL:PT1H
BEGIN:VTIMEZONE
TZID:America/Los_Angeles
BEGIN:DAYLIGHT
TZOFFSETFROM:-0800
TZOFFSETTO:-0700
TZNAME:PDT
DTSTART:20240310T100000
END:DAYLIGHT
BEGIN:STANDARD
TZOFFSETFROM:-0700
TZOFFSETTO:-0800
TZNAME:PST
DTSTART:20241103T090000
END:STANDARD
BEGIN:DAYLIGHT
TZOFFSETFROM:-0800
TZOFFSETTO:-0700
TZNAME:PDT
DTSTART:20250309T100000
END:DAYLIGHT
BEGIN:STANDARD
TZOFFSETFROM:-0700
TZOFFSETTO:-0800
TZNAME:PST
DTSTART:20251102T090000
END:STANDARD
BEGIN:DAYLIGHT
TZOFFSETFROM:-0800
TZOFFSETTO:-0700
TZNAME:PDT
DTSTART:20260308T100000
END:DAYLIGHT
BEGIN:STANDARD
TZOFFSETFROM:-0700
TZOFFSETTO:-0800
TZNAME:PST
DTSTART:20261101T090000
END:STANDARD
END:VTIMEZONE
BEGIN:VEVENT
DTSTART;TZID=America/Los_Angeles:20250725T080000
DTEND;TZID=America/Los_Angeles:20250727T170000
DTSTAMP:20260419T063437
CREATED:20250502T161353Z
LAST-MODIFIED:20250502T161353Z
UID:10001268-1753430400-1753635600@pleasantonrage.org
SUMMARY:RAGE College Showcase
DESCRIPTION:
URL:https://pleasantonrage.org/event/rage-college-showcase-2/
LOCATION:Ken Mercer Sports Park\, 5800 Parkside Dr\, Pleasanton\, CA\, 94566\, United States
CATEGORIES:Event
ATTACH;FMTTYPE=image/png:https://pleasantonrage.org/wp-content/uploads/2025/02/RAGEShowcase2025logo-nolines.png
END:VEVENT
END:VCALENDAR